BEGIN:VCALENDAR
PRODID://WordPress//Event-Post-V5.9.2//EN
VERSION:2.0
BEGIN:VTIMEZONE
TZID:Europe/Paris
BEGIN:DAYLIGHT
TZOFFSETFROM:+0100
TZOFFSETTO:+0200
DTSTART:19700329T020000
RRULE:FREQ=YEARLY;BYDAY=-1SU;BYMONTH=3
END:DAYLIGHT
BEGIN:STANDARD
TZOFFSETFROM:+0200
TZOFFSETTO:+0100
TZNAME:CET
DTSTART:19701025T030000
RRULE:FREQ=YEARLY;BYDAY=-1SU;BYMONTH=10
END:STANDARD
END:VTIMEZONE
BEGIN:VEVENT
SUMMARY:RS971: Visite du Gouverneur
UID:https://fifty-one-mons-levant.be/?p=7441
LOCATION:Le Cerf Blanc, 551, Chaussée du Rœulx, Havré, Mons, Hainaut, Wallonie, 7021, Belgique
DTSTAMP:20260507T193000
DTSTART;TZID=Europe/Paris:20260507T193000
DTEND;TZID=Europe/Paris:20260507T230000
DESCRIPTION:Réservation auprès de notre chef du protocole, Georges Verhoeven ==&gt; +32
473 37 13 44 / focmonslevant@gmail.com
END:VEVENT
END:VCALENDAR